BEGIN:VCALENDAR
CALSCALE:GREGORIAN
X-WR-TIMEZONE;VALUE=TEXT:GMT
PRODID:PEAK Corporation - piCal -
X-WR-CALNAME;VALUE=TEXT:元木教室
VERSION:2.0
METHOD:PUBLISH
BEGIN:VTIMEZONE
TZID:GMT
BEGIN:STANDARD
DTSTART:19390101T000000
TZOFFSETFROM:+0000
TZOFFSETTO:+0000
TZNAME:GMT
END:STANDARD
END:VTIMEZONE
BEGIN:VEVENT
DTSTART:20110721T093000Z
DTEND:20110721T113000Z
LOCATION:講　堂
TRANSP:OPAQUE
SEQUENCE:0
UID:pical060-51d8812b6cf9613862e151c4b48e2d8a
DTSTAMP:20110705T130613Z
CATEGORIES:
DESCRIPTION:
SUMMARY:元木教室
PRIORITY:0
CLASS:PUBLIC
END:VEVENT
END:VCALENDAR
