BEGIN:VCALENDAR
CALSCALE:GREGORIAN
X-WR-TIMEZONE;VALUE=TEXT:GMT
PRODID:PEAK Corporation - piCal -
X-WR-CALNAME;VALUE=TEXT:上山悠心会
VERSION:2.0
METHOD:PUBLISH
BEGIN:VTIMEZONE
TZID:Etc/GMT-9
BEGIN:STANDARD
DTSTART:19390101T000000
TZOFFSETFROM:+0900
TZOFFSETTO:+0900
TZNAME:Etc/GMT-9
END:STANDARD
END:VTIMEZONE
BEGIN:VEVENT
DTSTART;TZID=Etc/GMT-9:20121204T100000
DTEND;TZID=Etc/GMT-9:20121204T120000
LOCATION:三條かの記念館
TRANSP:OPAQUE
SEQUENCE:1
UID:pical060-08c5d60703abdc10bb21f1e48600f344
DTSTAMP:20121126T124935Z
CATEGORIES:
DESCRIPTION:
SUMMARY:上山悠心会
RRULE:FREQ=WEEKLY;INTERVAL=1;BYDAY=TU;UNTIL=20121225T145959Z;WKST=SU
PRIORITY:0
CLASS:PUBLIC
END:VEVENT
END:VCALENDAR
