BEGIN:VCALENDAR
CALSCALE:GREGORIAN
X-WR-TIMEZONE;VALUE=TEXT:GMT
PRODID:PEAK Corporation - piCal -
X-WR-CALNAME;VALUE=TEXT:西部教室
VERSION:2.0
METHOD:PUBLISH
BEGIN:VTIMEZONE
TZID:Etc/GMT-9
BEGIN:STANDARD
DTSTART:19390101T000000
TZOFFSETFROM:+0900
TZOFFSETTO:+0900
TZNAME:Etc/GMT-9
END:STANDARD
END:VTIMEZONE
BEGIN:VEVENT
DTSTART;TZID=Etc/GMT-9:20130108T190000
DTEND;TZID=Etc/GMT-9:20130108T213000
LOCATION:西部公民館
TRANSP:OPAQUE
SEQUENCE:0
UID:pical060-5acef1fc6ae92f767f9c1365076d3762
DTSTAMP:20130112T044200Z
CATEGORIES:
DESCRIPTION:☆　西部教室（ＰＭ７：００〜９：３０）　高橋指導員\n　　　　　８日・１５日・２２日・２９日　（火曜日）\n　　　　　　　　　　　　　　　　　　　 　場所：西部公民館\n
SUMMARY:西部教室
RRULE:FREQ=WEEKLY;INTERVAL=1;BYDAY=TU;UNTIL=20130129T145959Z;WKST=SU
PRIORITY:0
CLASS:PUBLIC
END:VEVENT
END:VCALENDAR
