BEGIN:VCALENDAR
CALSCALE:GREGORIAN
X-WR-TIMEZONE;VALUE=TEXT:GMT
PRODID:PEAK Corporation - piCal -
X-WR-CALNAME;VALUE=TEXT:寒河江教室
VERSION:2.0
METHOD:PUBLISH
BEGIN:VTIMEZONE
TZID:GMT
BEGIN:STANDARD
DTSTART:19390101T000000
TZOFFSETFROM:+0000
TZOFFSETTO:+0000
TZNAME:GMT
END:STANDARD
END:VTIMEZONE
BEGIN:VEVENT
DTSTART:20130204T010000Z
DTEND:20130204T030000Z
LOCATION:文化センター.市体育館
TRANSP:OPAQUE
SEQUENCE:1
UID:pical060-f24862a8141691ebab2c160b9208feb8
DTSTAMP:20130126T002610Z
CATEGORIES:
DESCRIPTION:☆寒河江教室（ＡＭ１０：００〜１２：００）　土屋指導員\n　　 　４日（月）市体育館　　　  １１日（月・祝）お休み\n　　 １８日（月）市体育館　　　  ２５日（月）文化センター和室\n
SUMMARY:寒河江教室
PRIORITY:0
CLASS:PUBLIC
END:VEVENT
END:VCALENDAR
