BEGIN:VCALENDAR
CALSCALE:GREGORIAN
X-WR-TIMEZONE;VALUE=TEXT:GMT
PRODID:PEAK Corporation - piCal -
X-WR-CALNAME;VALUE=TEXT:霞城教室
VERSION:2.0
METHOD:PUBLISH
BEGIN:VTIMEZONE
TZID:Etc/GMT-9
BEGIN:STANDARD
DTSTART:19390101T000000
TZOFFSETFROM:+0900
TZOFFSETTO:+0900
TZNAME:Etc/GMT-9
END:STANDARD
END:VTIMEZONE
BEGIN:VEVENT
DTSTART;TZID=Etc/GMT-9:20130202T091000
DTEND;TZID=Etc/GMT-9:20130202T120000
LOCATION:武道館３階剣道場・公民館３階講堂
TRANSP:OPAQUE
SEQUENCE:0
UID:pical060-78ce99cb24abf8d253ddc6c5e61ef9ce
DTSTAMP:20130126T002834Z
CATEGORIES:
DESCRIPTION:☆霞城教室（ＡＭ９：１０〜１２：００）　志賀指導員\n   ２日（土）公民館３階講堂　　　９日（土）公民館３階講堂　\n１６日（土）武道館３階剣道場　２３日（土）公民館３階講堂
SUMMARY:霞城教室
RRULE:FREQ=WEEKLY;INTERVAL=1;BYDAY=SA;UNTIL=20130223T145959Z;WKST=SU
PRIORITY:0
CLASS:PUBLIC
END:VEVENT
END:VCALENDAR
