BEGIN:VCALENDAR
CALSCALE:GREGORIAN
X-WR-TIMEZONE;VALUE=TEXT:GMT
PRODID:PEAK Corporation - piCal -
X-WR-CALNAME;VALUE=TEXT:寒河江教室
VERSION:2.0
METHOD:PUBLISH
BEGIN:VTIMEZONE
TZID:Etc/GMT-9
BEGIN:STANDARD
DTSTART:19390101T000000
TZOFFSETFROM:+0900
TZOFFSETTO:+0900
TZNAME:Etc/GMT-9
END:STANDARD
END:VTIMEZONE
BEGIN:VEVENT
DTSTART;TZID=Etc/GMT-9:20130304T100000
DTEND;TZID=Etc/GMT-9:20130304T120000
LOCATION:文化センター.市体育館
TRANSP:OPAQUE
SEQUENCE:4
UID:pical060-1d1787e6d7731275cfb64ce582b58f14
DTSTAMP:20130307T130006Z
CATEGORIES:
DESCRIPTION:☆　寒河江教室（ＡＭ１０：００〜１２：００）　土屋指導員\n　　 　４日（月）市体育館　　  １１日（月）市体育館\n　　 １８日（月）文化センター  ２５日（月）文化センター\n
SUMMARY:寒河江教室
RRULE:FREQ=WEEKLY;INTERVAL=1;BYDAY=MO;UNTIL=20130325T145959Z;WKST=SU
PRIORITY:0
CLASS:PUBLIC
END:VEVENT
END:VCALENDAR
