BEGIN:VCALENDAR
CALSCALE:GREGORIAN
X-WR-TIMEZONE;VALUE=TEXT:GMT
PRODID:PEAK Corporation - piCal -
X-WR-CALNAME;VALUE=TEXT:本県ブロック講師による指導員を対象とした講習会
VERSION:2.0
METHOD:PUBLISH
BEGIN:VTIMEZONE
TZID:GMT
BEGIN:STANDARD
DTSTART:19390101T000000
TZOFFSETFROM:+0000
TZOFFSETTO:+0000
TZNAME:GMT
END:STANDARD
END:VTIMEZONE
BEGIN:VEVENT
DTSTART:20131208T000000Z
DTEND:20131208T080000Z
LOCATION:
TRANSP:OPAQUE
SEQUENCE:0
UID:pical060-f4d8fcfafccc2b2efa1923ecc76457c3
DTSTAMP:20131201T124242Z
CATEGORIES:
DESCRIPTION:本県ブロック講師による指導員を対象とした講習会を以下により開催いたします。年末のお忙しい時期ではありますが、奮ってご参加下さい。参加を希望される方は、参加費を添えて県連盟事務局まで申し込んで下さい。\n\n\n\n日　　時　　１２月８日（日）９：３０〜１５：００（受付９：１５〜）\n会　　場　　山形市滝山コミュニティセンター\n（山形市上桜田１−１７−２６　?０２３−６２２−３４０１）\n内　　容　　太極拳の基本\n対　　象　　指導員（実際に指導に当たっている方）\n講　　師　　ブロック講師　志賀　恒憲・土屋　直美\n参加費　　１５００円\n申込締切　　１２月１日（日\n
SUMMARY:本県ブロック講師による指導員を対象とした講習会
PRIORITY:0
CLASS:PUBLIC
END:VEVENT
END:VCALENDAR
