BEGIN:VCALENDAR
CALSCALE:GREGORIAN
X-WR-TIMEZONE;VALUE=TEXT:GMT
PRODID:PEAK Corporation - piCal -
X-WR-CALNAME;VALUE=TEXT:「第２７回やまがたサークルフェスティバル
VERSION:2.0
METHOD:PUBLISH
BEGIN:VTIMEZONE
TZID:GMT
BEGIN:STANDARD
DTSTART:19390101T000000
TZOFFSETFROM:+0000
TZOFFSETTO:+0000
TZNAME:GMT
END:STANDARD
END:VTIMEZONE
BEGIN:VEVENT
DTSTART:20140119T023000Z
DTEND:20140119T080000Z
LOCATION:
TRANSP:OPAQUE
SEQUENCE:1
UID:pical060-1d18aaa2e0ac926ebcfa720804271598
DTSTAMP:20140105T014834Z
CATEGORIES:
DESCRIPTION:「第２７回やまがたサークルフェスティバル」が開催されます\n\n\n平成２６年１月１９日（日）に山形市中央公民館（アズ七日町）で『第２７回やまがたサークルフェスティバル』が開催されます。毎年山形市内の教室が持ち回りで参加していますが、今回は中央教室が出場する予定です。当日は会場に足を運ばれて、熱い声援を送っていただきたいと思います。\n\n\n演武種目　「２４式太極拳」・「３２式太極剣」\n出場時間　　１１時３０分〜（予定）\n
SUMMARY:「第２７回やまがたサークルフェスティバル
PRIORITY:0
CLASS:PUBLIC
END:VEVENT
END:VCALENDAR
