BEGIN:VCALENDAR
CALSCALE:GREGORIAN
X-WR-TIMEZONE;VALUE=TEXT:GMT
PRODID:PEAK Corporation - piCal -
X-WR-CALNAME;VALUE=TEXT:第１０回喜多方冬の太極拳講習会
VERSION:2.0
METHOD:PUBLISH
BEGIN:VTIMEZONE
TZID:GMT
BEGIN:STANDARD
DTSTART:19390101T000000
TZOFFSETFROM:+0000
TZOFFSETTO:+0000
TZNAME:GMT
END:STANDARD
END:VTIMEZONE
BEGIN:VEVENT
DTSTART:20140215T000000Z
DTEND:20140216T080000Z
LOCATION:
TRANSP:OPAQUE
SEQUENCE:0
UID:pical060-8195209aa17a5690092d761fc14f6704
DTSTAMP:20140105T015146Z
CATEGORIES:
DESCRIPTION:　　日　　時　　平成２６年２月１５日（土）　１０：００〜１６：１０\n　　　　　　　　　　　　　　　１６日（日）  　９：３０〜１６：００\n　　場　　所　　押切川公園体育館\n　　　　　　　　　　　（喜多方市字押切１−８６　?０２４１−２３−０７７１）\n　　講　　師　　石原　泰彦先生（日本武術太極拳連盟理事）\n　　　　　　 　 孔祥東先生（日本武術太極拳連盟特別招聘コーチ　元世界チャンピオン）\n　　内　　容　　２月１５日「２４式太極拳レベルアップ講習会」（石原先生）\n　　　　　　　　　　　　　　　…太極拳技能検定初段以上取得者対象　　定員１２０名\n　　　　　　　　　　　　　「２４式太極拳」（孔先生）…資格問わず　　定員１００名\n　　　　　　　　　　１６日「太極養生功・入門太極拳」（石原先生）　　定員１００名\n　　　　　　　　　　　　　「３２式太極剣」（孔先生）…剣持参のこと　定員１２０名\n　　　　　※　両日共講習後、孔祥東先生の模範演武を予定しています。\n　　受講料 　 　各講習とも２，０００円（当日支払い）\n　　申込期間　　平成２５年１月１４日（火）〜２月３日（月）\n　　申込方法　　郵送、ファックス、メールで必要事項を明記の上、喜多方市市民部高齢福祉課介護予防係までお申し込み下さい。\n　　　　　　　　　　　　　必要事項　?郵便番号・?住所・?氏名・?電話番号\n?受講種目（必要に応じ段位）\n　　　　ＴＥＬ：０２４１−２４−５２４２　　ＦＡＸ：０２４１−２５−７０７３\n　　　　メール　kourei＠city.kitakata.fukushima.jp\n
SUMMARY:第１０回喜多方冬の太極拳講習会
PRIORITY:0
CLASS:PUBLIC
END:VEVENT
END:VCALENDAR
