BEGIN:VCALENDAR
CALSCALE:GREGORIAN
X-WR-TIMEZONE;VALUE=TEXT:GMT
PRODID:PEAK Corporation - piCal -
X-WR-CALNAME;VALUE=TEXT:レベルアップ講習会
VERSION:2.0
METHOD:PUBLISH
BEGIN:VTIMEZONE
TZID:GMT
BEGIN:STANDARD
DTSTART:19390101T000000
TZOFFSETFROM:+0000
TZOFFSETTO:+0000
TZNAME:GMT
END:STANDARD
END:VTIMEZONE
BEGIN:VEVENT
DTSTART:20150412T003000Z
DTEND:20150412T073500Z
LOCATION:未定
TRANSP:OPAQUE
SEQUENCE:0
UID:pical060-34421c896fc0cfe7e06d4c39738ee21d
DTSTAMP:20150305T125753Z
CATEGORIES:
DESCRIPTION:\n東北・北海道ブロックセミナー講師を招いての「レベルアップ講習会」を開催する予定です。\n３段受検に向けてはもちろん、３段取得者にとっては４段に向けての技術レベルの向上を図る上で、きめ細やかな指導を受けられる良い機会です。\n是非奮ってご参加下さい。７月に第２回の講習会を予定しております。\n\n【日　　時】　４月１２日（日）９：３０〜１６：３０\n\n【受　　付】　９：１０〜　\n\n【場　　所】　未　定\n\n【講　　師】　日本武術太極拳連盟公認Ａ級指導員\n　　　　　　　　　ブロックセミナー講師　　岡野　範子先生・馬渕佐枝子先生\n\n【内　　容】　太極拳の基本\n\n【対　　象】　技術検定２段以上取得者\n\n【参加費　】　４，０００円
SUMMARY:レベルアップ講習会
PRIORITY:0
CLASS:PUBLIC
END:VEVENT
END:VCALENDAR
