BEGIN:VCALENDAR
CALSCALE:GREGORIAN
X-WR-TIMEZONE;VALUE=TEXT:GMT
PRODID:PEAK Corporation - piCal -
X-WR-CALNAME;VALUE=TEXT:指導員委員会講習　２段以下対象?　
VERSION:2.0
METHOD:PUBLISH
BEGIN:VTIMEZONE
TZID:GMT
BEGIN:STANDARD
DTSTART:19390101T000000
TZOFFSETFROM:+0000
TZOFFSETTO:+0000
TZNAME:GMT
END:STANDARD
END:VTIMEZONE
BEGIN:VEVENT
DTSTART:20181209T000000Z
DTEND:20181209T080000Z
LOCATION:山形山形市南部体育館市
TRANSP:OPAQUE
SEQUENCE:0
UID:pical060-db9803c94462e80a2c78afe2727665a6
DTSTAMP:20180808T114723Z
CATEGORIES:
DESCRIPTION:
SUMMARY:指導員委員会講習　２段以下対象?　
PRIORITY:0
CLASS:PUBLIC
END:VEVENT
END:VCALENDAR
