BEGIN:VCALENDAR
CALSCALE:GREGORIAN
X-WR-TIMEZONE;VALUE=TEXT:GMT
PRODID:PEAK Corporation - piCal -
X-WR-CALNAME;VALUE=TEXT:選手強化練習　　
VERSION:2.0
METHOD:PUBLISH
BEGIN:VTIMEZONE
TZID:GMT
BEGIN:STANDARD
DTSTART:19390101T000000
TZOFFSETFROM:+0000
TZOFFSETTO:+0000
TZNAME:GMT
END:STANDARD
END:VTIMEZONE
BEGIN:VEVENT
DTSTART:20190609T000000Z
DTEND:20190609T080000Z
LOCATION:山形県武道館
TRANSP:OPAQUE
SEQUENCE:0
UID:pical060-46238c4eae5ad393d5581bb0239ac90d
DTSTAMP:20190616T131247Z
CATEGORIES:
DESCRIPTION:
SUMMARY:選手強化練習　　
PRIORITY:0
CLASS:PUBLIC
END:VEVENT
END:VCALENDAR
