BEGIN:VCALENDAR
CALSCALE:GREGORIAN
X-WR-TIMEZONE;VALUE=TEXT:GMT
PRODID:PEAK Corporation - piCal -
X-WR-CALNAME;VALUE=TEXT:公認普及指導員認定講習
VERSION:2.0
METHOD:PUBLISH
BEGIN:VTIMEZONE
TZID:GMT
BEGIN:STANDARD
DTSTART:19390101T000000
TZOFFSETFROM:+0000
TZOFFSETTO:+0000
TZNAME:GMT
END:STANDARD
END:VTIMEZONE
BEGIN:VEVENT
DTSTART:20190616T000000Z
DTEND:20190616T080000Z
LOCATION:山形県体育館
TRANSP:OPAQUE
SEQUENCE:0
UID:pical060-f4fa9f1718ffd35d0ee3bc49608e7664
DTSTAMP:20190616T131330Z
CATEGORIES:
DESCRIPTION:
SUMMARY:公認普及指導員認定講習
PRIORITY:0
CLASS:PUBLIC
END:VEVENT
END:VCALENDAR
