BEGIN:VCALENDAR
CALSCALE:GREGORIAN
X-WR-TIMEZONE;VALUE=TEXT:GMT
PRODID:PEAK Corporation - piCal -
X-WR-CALNAME;VALUE=TEXT:指導員委員会講習　２段以下対象?　
VERSION:2.0
METHOD:PUBLISH
BEGIN:VTIMEZONE
TZID:GMT
BEGIN:STANDARD
DTSTART:19390101T000000
TZOFFSETFROM:+0000
TZOFFSETTO:+0000
TZNAME:GMT
END:STANDARD
END:VTIMEZONE
BEGIN:VEVENT
DTSTART:20190630T000000Z
DTEND:20190630T080000Z
LOCATION:山形市
TRANSP:OPAQUE
SEQUENCE:0
UID:pical060-22affab6c6285f3befd2a79114f29d1f
DTSTAMP:20190616T131452Z
CATEGORIES:
DESCRIPTION:
SUMMARY:指導員委員会講習　２段以下対象?　
PRIORITY:0
CLASS:PUBLIC
END:VEVENT
END:VCALENDAR
