BEGIN:VCALENDAR
CALSCALE:GREGORIAN
X-WR-TIMEZONE;VALUE=TEXT:GMT
PRODID:PEAK Corporation - piCal -
X-WR-CALNAME;VALUE=TEXT:２段・３段１次試験
VERSION:2.0
METHOD:PUBLISH
BEGIN:VTIMEZONE
TZID:GMT
BEGIN:STANDARD
DTSTART:19390101T000000
TZOFFSETFROM:+0000
TZOFFSETTO:+0000
TZNAME:GMT
END:STANDARD
END:VTIMEZONE
BEGIN:VEVENT
DTSTART:20190714T000000Z
DTEND:20190714T080000Z
LOCATION:山形市
TRANSP:OPAQUE
SEQUENCE:0
UID:pical060-8efc60aba4c41d1baf36815d2b9fce19
DTSTAMP:20190616T131700Z
CATEGORIES:
DESCRIPTION:
SUMMARY:２段・３段１次試験
PRIORITY:0
CLASS:PUBLIC
END:VEVENT
END:VCALENDAR
