BEGIN:VCALENDAR
CALSCALE:GREGORIAN
X-WR-TIMEZONE;VALUE=TEXT:GMT
PRODID:PEAK Corporation - piCal -
X-WR-CALNAME;VALUE=TEXT:指導員委員会講習　初段〜３段受験者対象
VERSION:2.0
METHOD:PUBLISH
BEGIN:VTIMEZONE
TZID:GMT
BEGIN:STANDARD
DTSTART:19390101T000000
TZOFFSETFROM:+0000
TZOFFSETTO:+0000
TZNAME:GMT
END:STANDARD
END:VTIMEZONE
BEGIN:VEVENT
DTSTART:20191006T000000Z
DTEND:20191006T080000Z
LOCATION:山形市
TRANSP:OPAQUE
SEQUENCE:0
UID:pical060-01adc50620dd2be010643566423317b0
DTSTAMP:20190616T132135Z
CATEGORIES:
DESCRIPTION:
SUMMARY:指導員委員会講習　初段〜３段受験者対象
PRIORITY:0
CLASS:PUBLIC
END:VEVENT
END:VCALENDAR
