BEGIN:VCALENDAR
CALSCALE:GREGORIAN
X-WR-TIMEZONE;VALUE=TEXT:GMT
PRODID:PEAK Corporation - piCal -
X-WR-CALNAME;VALUE=TEXT:３段検定試験
VERSION:2.0
METHOD:PUBLISH
BEGIN:VTIMEZONE
TZID:GMT
BEGIN:STANDARD
DTSTART:19390101T000000
TZOFFSETFROM:+0000
TZOFFSETTO:+0000
TZNAME:GMT
END:STANDARD
END:VTIMEZONE
BEGIN:VEVENT
DTSTART:20191103T000000Z
DTEND:20191103T080000Z
LOCATION:仙台市中小企業活性化センター
TRANSP:OPAQUE
SEQUENCE:0
UID:pical060-21fab96142fc9c13ac24dcb439c37149
DTSTAMP:20190616T132355Z
CATEGORIES:
DESCRIPTION:
SUMMARY:３段検定試験
PRIORITY:0
CLASS:PUBLIC
END:VEVENT
END:VCALENDAR
