BEGIN:VCALENDAR
CALSCALE:GREGORIAN
X-WR-TIMEZONE;VALUE=TEXT:GMT
PRODID:PEAK Corporation - piCal -
X-WR-CALNAME;VALUE=TEXT:太極剣講習会（ブロック講師）
VERSION:2.0
METHOD:PUBLISH
BEGIN:VTIMEZONE
TZID:GMT
BEGIN:STANDARD
DTSTART:19390101T000000
TZOFFSETFROM:+0000
TZOFFSETTO:+0000
TZNAME:GMT
END:STANDARD
END:VTIMEZONE
BEGIN:VEVENT
DTSTART:20191117T000000Z
DTEND:20191117T080000Z
LOCATION:山形市
TRANSP:OPAQUE
SEQUENCE:0
UID:pical060-e97059f43deacd74b66abf764314422d
DTSTAMP:20190616T132604Z
CATEGORIES:
DESCRIPTION:
SUMMARY:太極剣講習会（ブロック講師）
PRIORITY:0
CLASS:PUBLIC
END:VEVENT
END:VCALENDAR
