BEGIN:VCALENDAR
CALSCALE:GREGORIAN
X-WR-TIMEZONE;VALUE=TEXT:GMT
PRODID:PEAK Corporation - piCal -
X-WR-CALNAME;VALUE=TEXT:１級技能検定（後期）
VERSION:2.0
METHOD:PUBLISH
BEGIN:VTIMEZONE
TZID:GMT
BEGIN:STANDARD
DTSTART:19390101T000000
TZOFFSETFROM:+0000
TZOFFSETTO:+0000
TZNAME:GMT
END:STANDARD
END:VTIMEZONE
BEGIN:VEVENT
DTSTART:20200301T000000Z
DTEND:20200301T080000Z
LOCATION:山形市
TRANSP:OPAQUE
SEQUENCE:0
UID:pical060-4536dee7c62aec411020661c85ad8763
DTSTAMP:20190616T132930Z
CATEGORIES:
DESCRIPTION:
SUMMARY:１級技能検定（後期）
PRIORITY:0
CLASS:PUBLIC
END:VEVENT
END:VCALENDAR
