BEGIN:VCALENDAR
CALSCALE:GREGORIAN
X-WR-TIMEZONE;VALUE=TEXT:GMT
PRODID:PEAK Corporation - piCal -
X-WR-CALNAME;VALUE=TEXT:米沢城南入門・初級教室
VERSION:2.0
METHOD:PUBLISH
BEGIN:VTIMEZONE
TZID:Etc/GMT-9
BEGIN:STANDARD
DTSTART:19390101T000000
TZOFFSETFROM:+0900
TZOFFSETTO:+0900
TZNAME:Etc/GMT-9
END:STANDARD
END:VTIMEZONE
BEGIN:VEVENT
DTSTART;TZID=Etc/GMT-9:20121203T190000
DTEND;TZID=Etc/GMT-9:20121203T210000
LOCATION:三條かの記念館
TRANSP:OPAQUE
SEQUENCE:1
UID:pical060-8df7f9a477326bc787d32865457775a9
DTSTAMP:20121126T125008Z
CATEGORIES:
DESCRIPTION:
SUMMARY:米沢城南入門・初級教室
RRULE:FREQ=WEEKLY;INTERVAL=1;BYDAY=MO;UNTIL=20121224T145959Z;WKST=SU
PRIORITY:0
CLASS:PUBLIC
END:VEVENT
END:VCALENDAR
