BEGIN:VCALENDAR
CALSCALE:GREGORIAN
X-WR-TIMEZONE;VALUE=TEXT:GMT
PRODID:PEAK Corporation - piCal -
X-WR-CALNAME;VALUE=TEXT:西部教室
VERSION:2.0
METHOD:PUBLISH
BEGIN:VTIMEZONE
TZID:Etc/GMT-9
BEGIN:STANDARD
DTSTART:19390101T000000
TZOFFSETFROM:+0900
TZOFFSETTO:+0900
TZNAME:Etc/GMT-9
END:STANDARD
END:VTIMEZONE
BEGIN:VEVENT
DTSTART;TZID=Etc/GMT-9:20121204T190000
DTEND;TZID=Etc/GMT-9:20121204T213000
LOCATION:西部公民館
TRANSP:OPAQUE
SEQUENCE:1
UID:pical060-8c10b11fe1061069b5b712f3120ddcd1
DTSTAMP:20121126T125418Z
CATEGORIES:
DESCRIPTION:
SUMMARY:西部教室
RRULE:FREQ=WEEKLY;INTERVAL=1;BYDAY=TU;UNTIL=20121225T145959Z;WKST=SU
PRIORITY:0
CLASS:PUBLIC
END:VEVENT
END:VCALENDAR
