BEGIN:VCALENDAR
CALSCALE:GREGORIAN
X-WR-TIMEZONE;VALUE=TEXT:GMT
PRODID:PEAK Corporation - piCal -
X-WR-CALNAME;VALUE=TEXT:霞城教室
VERSION:2.0
METHOD:PUBLISH
BEGIN:VTIMEZONE
TZID:Etc/GMT-9
BEGIN:STANDARD
DTSTART:19390101T000000
TZOFFSETFROM:+0900
TZOFFSETTO:+0900
TZNAME:Etc/GMT-9
END:STANDARD
END:VTIMEZONE
BEGIN:VEVENT
DTSTART;TZID=Etc/GMT-9:20121201T091000
DTEND;TZID=Etc/GMT-9:20121201T120000
LOCATION:武道館３階剣道場・公民館３階講堂
TRANSP:OPAQUE
SEQUENCE:0
UID:pical060-2249104fae3b32a3acd957ffafbe2bee
DTSTAMP:20121126T125804Z
CATEGORIES:
DESCRIPTION:   １日（土）武道館３階剣道場　　８日（土）武道館３階剣道場\n１５日（土）武道館３階剣道場　２２日（土）公民館３階講堂\n
SUMMARY:霞城教室
RRULE:FREQ=WEEKLY;INTERVAL=1;BYDAY=SA;UNTIL=20121222T145959Z;WKST=SU
PRIORITY:0
CLASS:PUBLIC
END:VEVENT
END:VCALENDAR
