BEGIN:VCALENDAR
CALSCALE:GREGORIAN
X-WR-TIMEZONE;VALUE=TEXT:GMT
PRODID:PEAK Corporation - piCal -
X-WR-CALNAME;VALUE=TEXT:元木教室
VERSION:2.0
METHOD:PUBLISH
BEGIN:VTIMEZONE
TZID:Etc/GMT-9
BEGIN:STANDARD
DTSTART:19390101T000000
TZOFFSETFROM:+0900
TZOFFSETTO:+0900
TZNAME:Etc/GMT-9
END:STANDARD
END:VTIMEZONE
BEGIN:VEVENT
DTSTART;TZID=Etc/GMT-9:20121206T183000
DTEND;TZID=Etc/GMT-9:20121206T203000
LOCATION:講　堂　ほか
TRANSP:OPAQUE
SEQUENCE:1
UID:pical060-d37a8965ebcbf87b92eb3d111a7e84ff
DTSTAMP:20121126T125950Z
CATEGORIES:
DESCRIPTION:     　　◎　６日（木）講　堂　　　  １３日（木）２ＡＢ\n　  　   ◎２０日（木）講　堂　　　  ２７日（木）和　室\n
SUMMARY:元木教室
RRULE:FREQ=WEEKLY;INTERVAL=1;BYDAY=TH;UNTIL=20121227T145959Z;WKST=SU
PRIORITY:0
CLASS:PUBLIC
END:VEVENT
END:VCALENDAR
