BEGIN:VCALENDAR
CALSCALE:GREGORIAN
X-WR-TIMEZONE;VALUE=TEXT:GMT
PRODID:PEAK Corporation - piCal -
X-WR-CALNAME;VALUE=TEXT:霞城教室
VERSION:2.0
METHOD:PUBLISH
BEGIN:VTIMEZONE
TZID:Etc/GMT-9
BEGIN:STANDARD
DTSTART:19390101T000000
TZOFFSETFROM:+0900
TZOFFSETTO:+0900
TZNAME:Etc/GMT-9
END:STANDARD
END:VTIMEZONE
BEGIN:VEVENT
DTSTART;TZID=Etc/GMT-9:20130105T091000
DTEND;TZID=Etc/GMT-9:20130105T120000
LOCATION:武道館３階剣道場・公民館３階講堂
TRANSP:OPAQUE
SEQUENCE:1
UID:pical060-c05d5148d2c7efe820ba13532e176d46
DTSTAMP:20130112T043011Z
CATEGORIES:
DESCRIPTION: ☆霞城教室（ＡＭ９：１０〜１２：００）　志賀指導員\n   ５日（土）公民館３階講堂　　１２日（土）公民館３階講堂　\n１９日（土）武道館２階柔道場　２６日（土）公民館３階講堂\n
SUMMARY:霞城教室
RRULE:FREQ=WEEKLY;INTERVAL=1;BYDAY=SA;UNTIL=20130126T145959Z;WKST=SU
PRIORITY:0
CLASS:PUBLIC
END:VEVENT
END:VCALENDAR
