BEGIN:VCALENDAR
CALSCALE:GREGORIAN
X-WR-TIMEZONE;VALUE=TEXT:GMT
PRODID:PEAK Corporation - piCal -
X-WR-CALNAME;VALUE=TEXT:南部教室
VERSION:2.0
METHOD:PUBLISH
BEGIN:VTIMEZONE
TZID:Etc/GMT-9
BEGIN:STANDARD
DTSTART:19390101T000000
TZOFFSETFROM:+0900
TZOFFSETTO:+0900
TZNAME:Etc/GMT-9
END:STANDARD
END:VTIMEZONE
BEGIN:VEVENT
DTSTART;TZID=Etc/GMT-9:20130111T094500
DTEND;TZID=Etc/GMT-9:20130111T120000
LOCATION:３階集会室
TRANSP:OPAQUE
SEQUENCE:0
UID:pical060-5e032aecf18141d171ff720dc70778a6
DTSTAMP:20130112T043210Z
CATEGORIES:
DESCRIPTION:☆南部教室（ＡＭ９：４５〜１２：００）中山（順）指導員\n　　６日（日）３階集会室　　 　 １１日（金）３階集会室 　　　　　\n　１８日（金）３階集会室　　 　 ２５日（金）３階集会室\n
SUMMARY:南部教室
RRULE:FREQ=WEEKLY;INTERVAL=1;BYDAY=FR;UNTIL=20130205T145959Z;WKST=SU
PRIORITY:0
CLASS:PUBLIC
END:VEVENT
END:VCALENDAR
