BEGIN:VCALENDAR
CALSCALE:GREGORIAN
X-WR-TIMEZONE;VALUE=TEXT:GMT
PRODID:PEAK Corporation - piCal -
X-WR-CALNAME;VALUE=TEXT:南陽教室
VERSION:2.0
METHOD:PUBLISH
BEGIN:VTIMEZONE
TZID:Etc/GMT-9
BEGIN:STANDARD
DTSTART:19390101T000000
TZOFFSETFROM:+0900
TZOFFSETTO:+0900
TZNAME:Etc/GMT-9
END:STANDARD
END:VTIMEZONE
BEGIN:VEVENT
DTSTART;TZID=Etc/GMT-9:20130110T190000
DTEND;TZID=Etc/GMT-9:20130110T210000
LOCATION:沖郷中学校体育館
TRANSP:OPAQUE
SEQUENCE:0
UID:pical060-c72f353e88806edece7be44d1cbc49b6
DTSTAMP:20130112T043609Z
CATEGORIES:
DESCRIPTION:☆南陽教室　（ＰＭ７：００〜９：００）　橋本指導員\n　　　　１０日・１７日・２４日・３１日　（木曜日）\n　 　　　　　　　　　　　　　　　場所：沖郷中学校体育館\n
SUMMARY:南陽教室
RRULE:FREQ=WEEKLY;INTERVAL=1;BYDAY=TH;UNTIL=20130131T145959Z;WKST=SU
PRIORITY:0
CLASS:PUBLIC
END:VEVENT
END:VCALENDAR
