BEGIN:VCALENDAR
CALSCALE:GREGORIAN
X-WR-TIMEZONE;VALUE=TEXT:GMT
PRODID:PEAK Corporation - piCal -
X-WR-CALNAME;VALUE=TEXT:村山教室　
VERSION:2.0
METHOD:PUBLISH
BEGIN:VTIMEZONE
TZID:Etc/GMT-9
BEGIN:STANDARD
DTSTART:19390101T000000
TZOFFSETFROM:+0900
TZOFFSETTO:+0900
TZNAME:Etc/GMT-9
END:STANDARD
END:VTIMEZONE
BEGIN:VEVENT
DTSTART;TZID=Etc/GMT-9:20130109T193000
DTEND;TZID=Etc/GMT-9:20130109T210000
LOCATION:市民体育館体育室
TRANSP:OPAQUE
SEQUENCE:0
UID:pical060-1ace30b442cc0fcef672a7c028f9e2d6
DTSTAMP:20130112T043917Z
CATEGORIES:
DESCRIPTION:☆村山教室　（ＰＭ７：３０〜９：００）　高橋指導員\n　　　　　　９日・１６日・２３日・３０日　（水曜日）\n　　　 　　　　　　　　　　　　　　場所：市民体育館体育室
SUMMARY:村山教室　
RRULE:FREQ=WEEKLY;INTERVAL=1;BYDAY=WE;UNTIL=20130130T145959Z;WKST=SU
PRIORITY:0
CLASS:PUBLIC
END:VEVENT
END:VCALENDAR
