BEGIN:VCALENDAR
CALSCALE:GREGORIAN
X-WR-TIMEZONE;VALUE=TEXT:GMT
PRODID:PEAK Corporation - piCal -
X-WR-CALNAME;VALUE=TEXT:米沢城南・火曜教室
VERSION:2.0
METHOD:PUBLISH
BEGIN:VTIMEZONE
TZID:Etc/GMT-9
BEGIN:STANDARD
DTSTART:19390101T000000
TZOFFSETFROM:+0900
TZOFFSETTO:+0900
TZNAME:Etc/GMT-9
END:STANDARD
END:VTIMEZONE
BEGIN:VEVENT
DTSTART;TZID=Etc/GMT-9:20130108T193000
DTEND;TZID=Etc/GMT-9:20130108T210000
LOCATION:アビヤントＫ
TRANSP:OPAQUE
SEQUENCE:0
UID:pical060-b552150fb5d738ee5d4f04d3fd2b2ecb
DTSTAMP:20130112T044302Z
CATEGORIES:
DESCRIPTION:☆米沢城南・火曜教室（ＡＭ１０：００〜１２：００）\n　　　　　８日・１５日・２２日・２９日　（火曜日）\n　 　　夏井指導員　　　　　　　　　場所：三條かの記念館
SUMMARY:米沢城南・火曜教室
RRULE:FREQ=WEEKLY;INTERVAL=1;BYDAY=TU;UNTIL=20130129T145959Z;WKST=SU
PRIORITY:0
CLASS:PUBLIC
END:VEVENT
END:VCALENDAR
