BEGIN:VCALENDAR
CALSCALE:GREGORIAN
X-WR-TIMEZONE;VALUE=TEXT:GMT
PRODID:PEAK Corporation - piCal -
X-WR-CALNAME;VALUE=TEXT:寒河江教室
VERSION:2.0
METHOD:PUBLISH
BEGIN:VTIMEZONE
TZID:Etc/GMT-9
BEGIN:STANDARD
DTSTART:19390101T000000
TZOFFSETFROM:+0900
TZOFFSETTO:+0900
TZNAME:Etc/GMT-9
END:STANDARD
END:VTIMEZONE
BEGIN:VEVENT
DTSTART;TZID=Etc/GMT-9:20130107T100000
DTEND;TZID=Etc/GMT-9:20130107T120000
LOCATION:文化センター.市体育館
TRANSP:OPAQUE
SEQUENCE:0
UID:pical060-361042125af1a24ffbf27443b4b049be
DTSTAMP:20130112T044434Z
CATEGORIES:
DESCRIPTION:☆寒河江教室（ＡＭ１０：００〜１２：００）　土屋指導員\n　　 　７日（月）市体育館　　　　　  １４日（月）文化センター\n　　 ２１日（月）市体育館　　　　　  ２８日（月）文化センター\n
SUMMARY:寒河江教室
RRULE:FREQ=WEEKLY;INTERVAL=1;BYDAY=MO;UNTIL=20130129T145959Z;WKST=SU
PRIORITY:0
CLASS:PUBLIC
END:VEVENT
END:VCALENDAR
