BEGIN:VCALENDAR
CALSCALE:GREGORIAN
X-WR-TIMEZONE;VALUE=TEXT:GMT
PRODID:PEAK Corporation - piCal -
X-WR-CALNAME;VALUE=TEXT:米沢城南・火曜教室
VERSION:2.0
METHOD:PUBLISH
BEGIN:VTIMEZONE
TZID:Etc/GMT-9
BEGIN:STANDARD
DTSTART:19390101T000000
TZOFFSETFROM:+0900
TZOFFSETTO:+0900
TZNAME:Etc/GMT-9
END:STANDARD
END:VTIMEZONE
BEGIN:VEVENT
DTSTART;TZID=Etc/GMT-9:20130205T193000
DTEND;TZID=Etc/GMT-9:20130205T210000
LOCATION:アビヤントＫ
TRANSP:OPAQUE
SEQUENCE:0
UID:pical060-223a41d14f348b9f3c950c7197f8bd2c
DTSTAMP:20130126T002218Z
CATEGORIES:
DESCRIPTION:☆米沢城南・火曜教室（ＡＭ１０：００〜１２：００）\n　　　　　５日・１２日・１９日・２６日　（火曜日）\n　 　　夏井指導員　　　　　　　　　場所：三條かの記念館\n
SUMMARY:米沢城南・火曜教室
RRULE:FREQ=WEEKLY;INTERVAL=1;BYDAY=TU;UNTIL=20130226T145959Z;WKST=SU
PRIORITY:0
CLASS:PUBLIC
END:VEVENT
END:VCALENDAR
