BEGIN:VCALENDAR
CALSCALE:GREGORIAN
X-WR-TIMEZONE;VALUE=TEXT:GMT
PRODID:PEAK Corporation - piCal -
X-WR-CALNAME;VALUE=TEXT:元木教室
VERSION:2.0
METHOD:PUBLISH
BEGIN:VTIMEZONE
TZID:Etc/GMT-9
BEGIN:STANDARD
DTSTART:19390101T000000
TZOFFSETFROM:+0900
TZOFFSETTO:+0900
TZNAME:Etc/GMT-9
END:STANDARD
END:VTIMEZONE
BEGIN:VEVENT
DTSTART;TZID=Etc/GMT-9:20130207T183000
DTEND;TZID=Etc/GMT-9:20130207T203000
LOCATION:講　堂　ほか
TRANSP:OPAQUE
SEQUENCE:0
UID:pical060-e2441240b87158283adc468be76c08c7
DTSTAMP:20130126T002914Z
CATEGORIES:
DESCRIPTION:☆　元木教室　　　（ＰＭ６：３０〜８：３０）\n     　　　　７日（木）和　室　　　  １４日（木）講　堂\n　  　   　２１日（木）２ＡＢ　　　  ２８日（木）講　堂\n  　　 　　　　　　　 　　   早坂（◎のみ）・中村・土屋指導員\n
SUMMARY:元木教室
RRULE:FREQ=WEEKLY;INTERVAL=1;BYDAY=TH;UNTIL=20130228T145959Z;WKST=SU
PRIORITY:0
CLASS:PUBLIC
END:VEVENT
END:VCALENDAR
